BEGIN:VCALENDAR
VERSION:2.0
PRODID:-//habitat.firespring.org//NONSGML kigkonsult.se iCalcreator 2.30.10
 //
CALSCALE:GREGORIAN
METHOD:PUBLISH
UID:38e72900-8707-476c-9d20-1459a2617dc6
X-WR-CALDESC:Volunteer Appreciation Week is a monthly celebration observed 
 to promote and show appreciation for volunteerism and volunteering.\n\n<st
 rong>Our Community Benefits from Volunteering:</strong>\n<ul>\n<li>Strengt
 hens Community Bonds: Volunteers help provide essential services\, support
  schools\, youth\, and families\, and address local challenges\, creating 
 a stronger\, more vibrant\, and connected community for everyone.</li>\n<l
 i>Catalyzes Positive Change: Volunteers are often the backbone of initiati
 ves that lead to positive transformations\, such as environmental efforts\
 , education programs\, and crisis support services.</li>\n</ul>\n<a href='
 /how-to-help/volunteer.html' class='button'>Become a Volunteer</a>
X-WR-RELCALID:f7b2783967359377492dfe2dd08cd13e
X-WR-TIMEZONE:America/Chicago
BEGIN:VTIMEZONE
TZID:America/Chicago
BEGIN:STANDARD
TZNAME:CST
DTSTART:20271107T020000
TZOFFSETFROM:-0500
TZOFFSETTO:-0600
RDATE:20281105T020000
RDATE:20291104T020000
END:STANDARD
BEGIN:DAYLIGHT
TZNAME:CDT
DTSTART:20280312T020000
TZOFFSETFROM:-0600
TZOFFSETTO:-0500
RDATE:20290311T020000
RDATE:20300310T020000
END:DAYLIGHT
END:VTIMEZONE
BEGIN:VEVENT
UID:8c946776-ffba-45eb-a407-f19236fbc5a0
DTSTAMP:20260423T080217Z
DESCRIPTION:Volunteer Appreciation Week is a monthly celebration observed t
 o promote and show appreciation for volunteerism and volunteering.\n\n<str
 ong>Our Community Benefits from Volunteering:</strong>\n<ul>\n<li>Strength
 ens Community Bonds: Volunteers help provide essential services\, support 
 schools\, youth\, and families\, and address local challenges\, creating a
  stronger\, more vibrant\, and connected community for everyone.</li>\n<li
 >Catalyzes Positive Change: Volunteers are often the backbone of initiativ
 es that lead to positive transformations\, such as environmental efforts\,
  education programs\, and crisis support services.</li>\n</ul>\n<a href='/
 how-to-help/volunteer.html' class='button'>Become a Volunteer</a>
DTSTART;TZID=America/Chicago:20281015T050000
DTEND;TZID=America/Chicago:20281021T050001
LOCATION:
SUMMARY:Volunteer Appreciation Week
END:VEVENT
END:VCALENDAR
