BEGIN:VCALENDAR
VERSION:2.0
PRODID:-//habitat.firespring.org//NONSGML kigkonsult.se iCalcreator 2.30.10
 //
CALSCALE:GREGORIAN
METHOD:PUBLISH
UID:46ad9fb1-4cfc-47bb-9ec5-9e0bd43b15e3
X-WR-CALDESC:Volunteer Appreciation Week is a monthly celebration observed 
 to promote and show appreciation for volunteerism and volunteering.\n\n<st
 rong>Our Community Benefits from Volunteering:</strong>\n<ul>\n<li>Strengt
 hens Community Bonds: Volunteers help provide essential services\, support
  schools\, youth\, and families\, and address local challenges\, creating 
 a stronger\, more vibrant\, and connected community for everyone.</li>\n<l
 i>Catalyzes Positive Change: Volunteers are often the backbone of initiati
 ves that lead to positive transformations\, such as environmental efforts\
 , education programs\, and crisis support services.</li>\n</ul>\n<a href='
 /how-to-help/volunteer.html' class='button'>Become a Volunteer</a>
X-WR-RELCALID:9bb6b11bd64615a9edc15031e2b38971
X-WR-TIMEZONE:America/Chicago
BEGIN:VTIMEZONE
TZID:America/Chicago
BEGIN:STANDARD
TZNAME:CST
DTSTART:20251102T020000
TZOFFSETFROM:-0500
TZOFFSETTO:-0600
RDATE:20261101T020000
RDATE:20271107T020000
END:STANDARD
BEGIN:DAYLIGHT
TZNAME:CDT
DTSTART:20260308T020000
TZOFFSETFROM:-0600
TZOFFSETTO:-0500
RDATE:20270314T020000
END:DAYLIGHT
END:VTIMEZONE
BEGIN:VEVENT
UID:76a94769-bdb2-4e46-ae56-5ec059034363
DTSTAMP:20260421T125118Z
DESCRIPTION:Volunteer Appreciation Week is a monthly celebration observed t
 o promote and show appreciation for volunteerism and volunteering.\n\n<str
 ong>Our Community Benefits from Volunteering:</strong>\n<ul>\n<li>Strength
 ens Community Bonds: Volunteers help provide essential services\, support 
 schools\, youth\, and families\, and address local challenges\, creating a
  stronger\, more vibrant\, and connected community for everyone.</li>\n<li
 >Catalyzes Positive Change: Volunteers are often the backbone of initiativ
 es that lead to positive transformations\, such as environmental efforts\,
  education programs\, and crisis support services.</li>\n</ul>\n<a href='/
 how-to-help/volunteer.html' class='button'>Become a Volunteer</a>
DTSTART;TZID=America/Chicago:20260719T050000
DTEND;TZID=America/Chicago:20260725T050001
LOCATION:
SUMMARY:Volunteer Appreciation Week
END:VEVENT
END:VCALENDAR
