BEGIN:VCALENDAR
VERSION:2.0
PRODID:-//habitat.firespring.org//NONSGML kigkonsult.se iCalcreator 2.30.10
 //
CALSCALE:GREGORIAN
METHOD:PUBLISH
UID:f334a50c-400f-4982-9422-1f1a1379b0fc
X-WR-CALDESC:Habitat for Humanity safety training is a mandatory\, comprehe
 nsive program for staff and volunteers designed to ensure a secure\, injur
 y-free construction site or ReStore environment. It includes modules on fa
 ll protection\, tool safety\, proper lifting techniques\, and personal pro
 tective equipment (PPE).\n\n<strong>Key Safety Training Components</strong
 >\n<ul>\n<li><strong>Jobsite Safety:</strong> Mandatory training covers id
 entifying hazards\, using PPE (hard hats\, safety glasses)\, and properly 
 using power tools.</li>\n<li><strong>Fall Protection:</strong> OSHA-compli
 ant training is required for work over 6 feet\, including scaffolding use.
 </li>\n<li><strong>ReStore Safety:</strong> Focuses on loss control\, hand
 ling merchandise\, and safe lifting techniques (bending knees\, asking for
  help).</li>\n<li><strong>Emergency & Hazards:</strong> Covers awareness o
 f surroundings\, communicating with others on site\, and managing environm
 ental risks.</li>\n<li><strong>Safeguarding:</strong> Training on managing
  power dynamics and preventing exploitation or abuse.</li>\n</ul>
X-WR-RELCALID:a1f0aca696316cccc704de1462836a13
X-WR-TIMEZONE:America/Chicago
BEGIN:VTIMEZONE
TZID:America/Chicago
BEGIN:STANDARD
TZNAME:CST
DTSTART:20251102T020000
TZOFFSETFROM:-0500
TZOFFSETTO:-0600
RDATE:20261101T020000
RDATE:20271107T020000
END:STANDARD
BEGIN:DAYLIGHT
TZNAME:CDT
DTSTART:20260308T020000
TZOFFSETFROM:-0600
TZOFFSETTO:-0500
RDATE:20270314T020000
END:DAYLIGHT
END:VTIMEZONE
BEGIN:VEVENT
UID:e9e9bf8c-1fb6-4e09-aa5a-dc0405170863
DTSTAMP:20260421T112641Z
DESCRIPTION:Habitat for Humanity safety training is a mandatory\, comprehen
 sive program for staff and volunteers designed to ensure a secure\, injury
 -free construction site or ReStore environment. It includes modules on fal
 l protection\, tool safety\, proper lifting techniques\, and personal prot
 ective equipment (PPE).\n\n<strong>Key Safety Training Components</strong>
 \n<ul>\n<li><strong>Jobsite Safety:</strong> Mandatory training covers ide
 ntifying hazards\, using PPE (hard hats\, safety glasses)\, and properly u
 sing power tools.</li>\n<li><strong>Fall Protection:</strong> OSHA-complia
 nt training is required for work over 6 feet\, including scaffolding use.<
 /li>\n<li><strong>ReStore Safety:</strong> Focuses on loss control\, handl
 ing merchandise\, and safe lifting techniques (bending knees\, asking for 
 help).</li>\n<li><strong>Emergency & Hazards:</strong> Covers awareness of
  surroundings\, communicating with others on site\, and managing environme
 ntal risks.</li>\n<li><strong>Safeguarding:</strong> Training on managing 
 power dynamics and preventing exploitation or abuse.</li>\n</ul>
DTSTART;TZID=America/Chicago:20260627T080000
DTEND;TZID=America/Chicago:20260627T090000
LOCATION:1201 Infinity Court\, Lincoln\, NE 68512 US
SUMMARY:Volunteer Safety Training
END:VEVENT
END:VCALENDAR
